BEGIN:VCALENDAR
VERSION:2.0
PRODID:-//Nueva Acrópolis Chile | Escuela de Filosofía - ECPv6.15.20//NONSGML v1.0//EN
CALSCALE:GREGORIAN
METHOD:PUBLISH
X-WR-CALNAME:Nueva Acrópolis Chile | Escuela de Filosofía
X-ORIGINAL-URL:https://www.nueva-acropolis.cl
X-WR-CALDESC:Eventos para Nueva Acrópolis Chile | Escuela de Filosofía
REFRESH-INTERVAL;VALUE=DURATION:PT1H
X-Robots-Tag:noindex
X-PUBLISHED-TTL:PT1H
BEGIN:VTIMEZONE
TZID:America/Halifax
BEGIN:DAYLIGHT
TZOFFSETFROM:-0400
TZOFFSETTO:-0300
TZNAME:ADT
DTSTART:20240310T060000
END:DAYLIGHT
BEGIN:STANDARD
TZOFFSETFROM:-0300
TZOFFSETTO:-0400
TZNAME:AST
DTSTART:20241103T050000
END:STANDARD
BEGIN:DAYLIGHT
TZOFFSETFROM:-0400
TZOFFSETTO:-0300
TZNAME:ADT
DTSTART:20250309T060000
END:DAYLIGHT
BEGIN:STANDARD
TZOFFSETFROM:-0300
TZOFFSETTO:-0400
TZNAME:AST
DTSTART:20251102T050000
END:STANDARD
BEGIN:DAYLIGHT
TZOFFSETFROM:-0400
TZOFFSETTO:-0300
TZNAME:ADT
DTSTART:20260308T060000
END:DAYLIGHT
BEGIN:STANDARD
TZOFFSETFROM:-0300
TZOFFSETTO:-0400
TZNAME:AST
DTSTART:20261101T050000
END:STANDARD
END:VTIMEZONE
BEGIN:VEVENT
DTSTART;TZID=America/Halifax:20250507T200000
DTEND;TZID=America/Halifax:20250507T210000
DTSTAMP:20260421T210623
CREATED:20250503T000653Z
LAST-MODIFIED:20250503T052050Z
UID:21457-1746648000-1746651600@www.nueva-acropolis.cl
SUMMARY:Charla: Helena P. Blavatsky y la Filosofía Esotérica - Santiago
DESCRIPTION:Inscríbete Aquí:\n\n\n  \n\n\n\nNombre\n \n \nCorreo electrónico\n \n \nFono/Whatsapp\n \n \nMensaje
URL:https://www.nueva-acropolis.cl/evento/helena-p-blavatsky-y-la-filosofia-esoterica/
LOCATION:Santiago\, Avenida Vicuña Mackenna 76\, Providencia\, Santiago\, Santiago\, Providencia\, Chile
CATEGORIES:Santiago
ATTACH;FMTTYPE=image/jpeg:https://www.nueva-acropolis.cl/wp-content/uploads/2025/05/HPB-y-la-Filosofia-Esoterica1.jpg
ORGANIZER;CN="Nueva Acr%C3%B3polis Santiago":MAILTO:santiago@nueva-acropolis.cl
END:VEVENT
END:VCALENDAR