BEGIN:VCALENDAR
VERSION:2.0
PRODID:-//Nueva Acrópolis Chile | Escuela de Filosofía - ECPv6.15.20//NONSGML v1.0//EN
CALSCALE:GREGORIAN
METHOD:PUBLISH
X-ORIGINAL-URL:https://www.nueva-acropolis.cl
X-WR-CALDESC:Eventos para Nueva Acrópolis Chile | Escuela de Filosofía
REFRESH-INTERVAL;VALUE=DURATION:PT1H
X-Robots-Tag:noindex
X-PUBLISHED-TTL:PT1H
BEGIN:VTIMEZONE
TZID:America/Halifax
BEGIN:DAYLIGHT
TZOFFSETFROM:-0400
TZOFFSETTO:-0300
TZNAME:ADT
DTSTART:20240310T060000
END:DAYLIGHT
BEGIN:STANDARD
TZOFFSETFROM:-0300
TZOFFSETTO:-0400
TZNAME:AST
DTSTART:20241103T050000
END:STANDARD
BEGIN:DAYLIGHT
TZOFFSETFROM:-0400
TZOFFSETTO:-0300
TZNAME:ADT
DTSTART:20250309T060000
END:DAYLIGHT
BEGIN:STANDARD
TZOFFSETFROM:-0300
TZOFFSETTO:-0400
TZNAME:AST
DTSTART:20251102T050000
END:STANDARD
BEGIN:DAYLIGHT
TZOFFSETFROM:-0400
TZOFFSETTO:-0300
TZNAME:ADT
DTSTART:20260308T060000
END:DAYLIGHT
BEGIN:STANDARD
TZOFFSETFROM:-0300
TZOFFSETTO:-0400
TZNAME:AST
DTSTART:20261101T050000
END:STANDARD
END:VTIMEZONE
BEGIN:VEVENT
DTSTART;TZID=America/Halifax:20250611T200000
DTEND;TZID=America/Halifax:20250611T210000
DTSTAMP:20260421T211258
CREATED:20250330T140312Z
LAST-MODIFIED:20250610T135557Z
UID:21172-1749672000-1749675600@www.nueva-acropolis.cl
SUMMARY:Charla: Pitágoras y la Ciencia Sagrada\, Santiago
DESCRIPTION:El Pitagorismo no es solo una corriente filosófica\, sino un verdadero modo de vida: limpio\, puro\, elevado y noble. Sus enseñanzas buscaban despertar lo mejor de cada ser humano\, guiándolo hacia su realización personal y espiritual. \nTe invitamos a descubrir la vida y legado de Pitágoras\, un filósofo presocrático cuya huella perdura hasta hoy. A través de su pensamiento\, nos entregaron valiosas herramientas de desarrollo interior\, prácticas y atemporales\, que pueden integrarse a nuestra vida cotidiana. \nNo te pierdas esta oportunidad de acercarte a su sabiduría y extraer enseñanzas profundas y transformadoras. \n¡Te esperamos! \nInscríbete aquí:\n\n\n  \n\n\n\nNombre\n \n \nCorreo electrónico\n \n \nFono/Whatsapp\n \n \nMensaje
URL:https://www.nueva-acropolis.cl/evento/charla-pitagoras-y-la-ciencia-sagrada-santiago/
LOCATION:Santiago\, Avenida Vicuña Mackenna 76\, Providencia\, Santiago\, Santiago\, Providencia\, Chile
CATEGORIES:Santiago
ATTACH;FMTTYPE=image/jpeg:https://www.nueva-acropolis.cl/wp-content/uploads/2025/03/Bronnikov_gimnpifagoreizev.jpg
ORGANIZER;CN="Nueva Acr%C3%B3polis Santiago":MAILTO:santiago@nueva-acropolis.cl
END:VEVENT
END:VCALENDAR