BEGIN:VCALENDAR
VERSION:2.0
PRODID:-//Nueva Acrópolis Chile | Escuela de Filosofía - ECPv6.15.20//NONSGML v1.0//EN
CALSCALE:GREGORIAN
METHOD:PUBLISH
X-ORIGINAL-URL:https://www.nueva-acropolis.cl
X-WR-CALDESC:Eventos para Nueva Acrópolis Chile | Escuela de Filosofía
REFRESH-INTERVAL;VALUE=DURATION:PT1H
X-Robots-Tag:noindex
X-PUBLISHED-TTL:PT1H
BEGIN:VTIMEZONE
TZID:America/Halifax
BEGIN:DAYLIGHT
TZOFFSETFROM:-0400
TZOFFSETTO:-0300
TZNAME:ADT
DTSTART:20240310T060000
END:DAYLIGHT
BEGIN:STANDARD
TZOFFSETFROM:-0300
TZOFFSETTO:-0400
TZNAME:AST
DTSTART:20241103T050000
END:STANDARD
BEGIN:DAYLIGHT
TZOFFSETFROM:-0400
TZOFFSETTO:-0300
TZNAME:ADT
DTSTART:20250309T060000
END:DAYLIGHT
BEGIN:STANDARD
TZOFFSETFROM:-0300
TZOFFSETTO:-0400
TZNAME:AST
DTSTART:20251102T050000
END:STANDARD
BEGIN:DAYLIGHT
TZOFFSETFROM:-0400
TZOFFSETTO:-0300
TZNAME:ADT
DTSTART:20260308T060000
END:DAYLIGHT
BEGIN:STANDARD
TZOFFSETFROM:-0300
TZOFFSETTO:-0400
TZNAME:AST
DTSTART:20261101T050000
END:STANDARD
END:VTIMEZONE
BEGIN:VEVENT
DTSTART;TZID=America/Halifax:20250709T200000
DTEND;TZID=America/Halifax:20250709T210000
DTSTAMP:20260421T194758
CREATED:20250529T182702Z
LAST-MODIFIED:20250529T182752Z
UID:21564-1752091200-1752094800@www.nueva-acropolis.cl
SUMMARY:Charla: Filosofía y la Guerra Interior\, Santiago.
DESCRIPTION:Nombre\n \n \nCorreo electrónico\n \n \nFono/Whatsapp\n \n \nMensaje
URL:https://www.nueva-acropolis.cl/evento/charla-filosofia-y-la-guerra-interior-santiago-2/
LOCATION:Santiago\, Avenida Vicuña Mackenna 76\, Providencia\, Santiago\, Santiago\, Providencia\, Chile
CATEGORIES:Santiago
ATTACH;FMTTYPE=image/jpeg:https://www.nueva-acropolis.cl/wp-content/uploads/2025/05/מלחמה-פנימית-תמידית-כך-תחיו-עם-עצמכם-בשלום.jpg
ORGANIZER;CN="Nueva Acr%C3%B3polis Santiago":MAILTO:santiago@nueva-acropolis.cl
END:VEVENT
END:VCALENDAR