BEGIN:VCALENDAR
VERSION:2.0
PRODID:-//Nueva Acrópolis Chile | Escuela de Filosofía - ECPv6.15.20//NONSGML v1.0//EN
CALSCALE:GREGORIAN
METHOD:PUBLISH
X-WR-CALNAME:Nueva Acrópolis Chile | Escuela de Filosofía
X-ORIGINAL-URL:https://www.nueva-acropolis.cl
X-WR-CALDESC:Eventos para Nueva Acrópolis Chile | Escuela de Filosofía
REFRESH-INTERVAL;VALUE=DURATION:PT1H
X-Robots-Tag:noindex
X-PUBLISHED-TTL:PT1H
BEGIN:VTIMEZONE
TZID:America/Halifax
BEGIN:DAYLIGHT
TZOFFSETFROM:-0400
TZOFFSETTO:-0300
TZNAME:ADT
DTSTART:20240310T060000
END:DAYLIGHT
BEGIN:STANDARD
TZOFFSETFROM:-0300
TZOFFSETTO:-0400
TZNAME:AST
DTSTART:20241103T050000
END:STANDARD
BEGIN:DAYLIGHT
TZOFFSETFROM:-0400
TZOFFSETTO:-0300
TZNAME:ADT
DTSTART:20250309T060000
END:DAYLIGHT
BEGIN:STANDARD
TZOFFSETFROM:-0300
TZOFFSETTO:-0400
TZNAME:AST
DTSTART:20251102T050000
END:STANDARD
BEGIN:DAYLIGHT
TZOFFSETFROM:-0400
TZOFFSETTO:-0300
TZNAME:ADT
DTSTART:20260308T060000
END:DAYLIGHT
BEGIN:STANDARD
TZOFFSETFROM:-0300
TZOFFSETTO:-0400
TZNAME:AST
DTSTART:20261101T050000
END:STANDARD
END:VTIMEZONE
BEGIN:VEVENT
DTSTART;TZID=America/Halifax:20250820T200000
DTEND;TZID=America/Halifax:20250820T210000
DTSTAMP:20260421T181300
CREATED:20250529T183653Z
LAST-MODIFIED:20250807T162018Z
UID:21568-1755720000-1755723600@www.nueva-acropolis.cl
SUMMARY:Charla: Polvo de estrellas\, mi lugar en el Universo - Santiago
DESCRIPTION:¿Qué lugar ocupa el ser humano en el vasto tejido del cosmos? \nDesde tiempos inmemoriales\, el ser humano ha alzado la mirada hacia el cielo estrellado buscando respuestas. ¿Somos acaso una casualidad entre galaxias? ¿O hay un propósito más profundo en nuestra existencia? \nTe invitamos a esta charla filosófica donde exploraremos la relación entre el microcosmos y el macrocosmos: el universo exterior y nuestro universo interior. Reflexionaremos sobre cómo cada ser humano\, como parte viva de la naturaleza\, cumple un rol en el desarrollo armónico de un todo inteligente y ordenado. \nUna invitación a descubrir que\, más allá del asombro ante la inmensidad del cosmos\, hay un llamado a encontrar sentido\, dirección y propósito en nuestra vida. Porque quizás… no solo estamos hechos de polvo de estrellas\, sino también de sueños\, ideas y posibilidades. \nTe esperamos 🙂 \nInscríbete Aquí:\n\n\n  \n\n\n\nNombre\n \n \nCorreo electrónico\n \n \nFono/Whatsapp\n \n \nMensaje
URL:https://www.nueva-acropolis.cl/evento/charla-polvo-de-estrellas-mi-lugar-en-el-universo-santiago/
LOCATION:Santiago\, Avenida Vicuña Mackenna 76\, Providencia\, Santiago\, Santiago\, Providencia\, Chile
CATEGORIES:Santiago
ATTACH;FMTTYPE=image/jpeg:https://www.nueva-acropolis.cl/wp-content/uploads/2025/05/Screenshot_40.jpg
ORGANIZER;CN="Nueva Acr%C3%B3polis Santiago":MAILTO:santiago@nueva-acropolis.cl
END:VEVENT
END:VCALENDAR