BEGIN:VCALENDAR
VERSION:2.0
PRODID:-//Nueva Acrópolis Chile | Escuela de Filosofía - ECPv6.15.20//NONSGML v1.0//EN
CALSCALE:GREGORIAN
METHOD:PUBLISH
X-WR-CALNAME:Nueva Acrópolis Chile | Escuela de Filosofía
X-ORIGINAL-URL:https://www.nueva-acropolis.cl
X-WR-CALDESC:Eventos para Nueva Acrópolis Chile | Escuela de Filosofía
REFRESH-INTERVAL;VALUE=DURATION:PT1H
X-Robots-Tag:noindex
X-PUBLISHED-TTL:PT1H
BEGIN:VTIMEZONE
TZID:America/Halifax
BEGIN:DAYLIGHT
TZOFFSETFROM:-0400
TZOFFSETTO:-0300
TZNAME:ADT
DTSTART:20250309T060000
END:DAYLIGHT
BEGIN:STANDARD
TZOFFSETFROM:-0300
TZOFFSETTO:-0400
TZNAME:AST
DTSTART:20251102T050000
END:STANDARD
BEGIN:DAYLIGHT
TZOFFSETFROM:-0400
TZOFFSETTO:-0300
TZNAME:ADT
DTSTART:20260308T060000
END:DAYLIGHT
BEGIN:STANDARD
TZOFFSETFROM:-0300
TZOFFSETTO:-0400
TZNAME:AST
DTSTART:20261101T050000
END:STANDARD
BEGIN:DAYLIGHT
TZOFFSETFROM:-0400
TZOFFSETTO:-0300
TZNAME:ADT
DTSTART:20270314T060000
END:DAYLIGHT
BEGIN:STANDARD
TZOFFSETFROM:-0300
TZOFFSETTO:-0400
TZNAME:AST
DTSTART:20271107T050000
END:STANDARD
END:VTIMEZONE
BEGIN:VEVENT
DTSTART;TZID=America/Halifax:20260211T200000
DTEND;TZID=America/Halifax:20260211T210000
DTSTAMP:20260421T092523
CREATED:20260206T070704Z
LAST-MODIFIED:20260211T140325Z
UID:22857-1770840000-1770843600@www.nueva-acropolis.cl
SUMMARY:Charla: EL CABALLO DE FUEGO\, Astrología China y la energía del cambio - Santiago
DESCRIPTION:CABALLO DE FUEGO\, Astrología China y la energía del cambio\nLa tradición astrológica china nos invita a observar los ciclos de la naturaleza como expresiones vivas de un orden profundo y significativo. En esta charla exploraremos el símbolo del Caballo de Fuego\, arquetipo de movimiento\, impulso vital y transformación\, comprendido no como una predicción del destino\, sino como una enseñanza para el autoconocimiento y la acción consciente. \nA través de una mirada filosófica\, abordaremos cómo las fuerzas de la naturaleza —cuando son observadas con atención y comprensión— se revelan siempre favorables para quien busca vivir en armonía con los ritmos de la vida. El Caballo de Fuego nos habla del cambio\, del coraje interior y de la capacidad de conducir la energía en lugar de ser arrastrados por ella. \nEsta charla es una invitación a acercarse a la sabiduría atemporal de China\, descubriendo en su simbolismo claves prácticas para enfrentar los desafíos actuales con mayor claridad\, equilibrio y sentido. Un espacio para reflexionar\, aprender y reconocer en el cambio una oportunidad de crecimiento interior. \n📅 Miércoles 11 de febrero🕗 20:00 hrs.📍 Av. Vicuña Mackenna 76\, Providencia\, Santiago \nInscríbete Aquí:\n\n\n  \n\n\n\nNombre\n \n \nCorreo electrónico\n \n \nFono/Whatsapp\n \n \nMensaje
URL:https://www.nueva-acropolis.cl/evento/charla-el-caballo-de-fuego-astrologia-china-y-la-energia-del-cambio/
LOCATION:Santiago\, Avenida Vicuña Mackenna 76\, Providencia\, Santiago\, Santiago\, Providencia\, Chile
CATEGORIES:Santiago
ATTACH;FMTTYPE=image/jpeg:https://www.nueva-acropolis.cl/wp-content/uploads/2026/02/astrologia-china.jpg
ORGANIZER;CN="Nueva Acr%C3%B3polis Santiago":MAILTO:santiago@nueva-acropolis.cl
END:VEVENT
END:VCALENDAR