BEGIN:VCALENDAR
VERSION:2.0
PRODID:-//Nueva Acrópolis Chile | Escuela de Filosofía - ECPv6.15.20//NONSGML v1.0//EN
CALSCALE:GREGORIAN
METHOD:PUBLISH
X-WR-CALNAME:Nueva Acrópolis Chile | Escuela de Filosofía
X-ORIGINAL-URL:https://www.nueva-acropolis.cl
X-WR-CALDESC:Eventos para Nueva Acrópolis Chile | Escuela de Filosofía
REFRESH-INTERVAL;VALUE=DURATION:PT1H
X-Robots-Tag:noindex
X-PUBLISHED-TTL:PT1H
BEGIN:VTIMEZONE
TZID:America/Halifax
BEGIN:DAYLIGHT
TZOFFSETFROM:-0400
TZOFFSETTO:-0300
TZNAME:ADT
DTSTART:20250309T060000
END:DAYLIGHT
BEGIN:STANDARD
TZOFFSETFROM:-0300
TZOFFSETTO:-0400
TZNAME:AST
DTSTART:20251102T050000
END:STANDARD
BEGIN:DAYLIGHT
TZOFFSETFROM:-0400
TZOFFSETTO:-0300
TZNAME:ADT
DTSTART:20260308T060000
END:DAYLIGHT
BEGIN:STANDARD
TZOFFSETFROM:-0300
TZOFFSETTO:-0400
TZNAME:AST
DTSTART:20261101T050000
END:STANDARD
BEGIN:DAYLIGHT
TZOFFSETFROM:-0400
TZOFFSETTO:-0300
TZNAME:ADT
DTSTART:20270314T060000
END:DAYLIGHT
BEGIN:STANDARD
TZOFFSETFROM:-0300
TZOFFSETTO:-0400
TZNAME:AST
DTSTART:20271107T050000
END:STANDARD
END:VTIMEZONE
BEGIN:VEVENT
DTSTART;TZID=America/Halifax:20260213T180000
DTEND;TZID=America/Halifax:20260213T210000
DTSTAMP:20260421T133428
CREATED:20260127T140051Z
LAST-MODIFIED:20260207T203742Z
UID:22845-1771005600-1771016400@www.nueva-acropolis.cl
SUMMARY:Taller: Escultura: forma\, proporción y belleza - Santiago
DESCRIPTION:“Dar forma a la armonía”Taller de escultura y proporción \nEste verano\, te invitamos a detener el ritmo y volver al gesto creador.Un espacio presencial dedicado a quienes desean disfrutar del arte de crear\, explorando la forma\, la proporción y la armonía que habitan en la naturaleza y en toda obra bella. \nA lo largo del taller aprenderás a observar\, modelar y comprender cómo las proporciones dan vida a las formas\, permitiendo que la materia exprese equilibrio\, ritmo y sentido. No se requiere experiencia previa\, solo el deseo de crear con atención y sensibilidad. \n📅 13\, 20 y 27 de febrero\n🕕 18:00 a 21:00 hrs.\n📍 Nueva Acrópolis\n📞 Más información e inscripciones: +56 9 7170 3874\n🎟️ Cupos limitados\n💵 Valor: $50.000 (Incluye materiales) \nInscríbete Aquí:\n\n\n  \n\n\n\nNombre  \n \nCorreo electrónico  \n \nFono/Whatsapp  \n \nMensaje  \n \n\n \n\n\n\n 
URL:https://www.nueva-acropolis.cl/evento/taller-escultura-forma-proporcion-y-belleza/
LOCATION:Santiago\, Avenida Vicuña Mackenna 76\, Providencia\, Santiago\, Santiago\, Providencia\, Chile
CATEGORIES:Santiago
ATTACH;FMTTYPE=image/png:https://www.nueva-acropolis.cl/wp-content/uploads/2026/01/3.png
ORGANIZER;CN="Nueva Acr%C3%B3polis Santiago":MAILTO:santiago@nueva-acropolis.cl
END:VEVENT
END:VCALENDAR