BEGIN:VCALENDAR
VERSION:2.0
PRODID:-//Nueva Acrópolis Chile | Escuela de Filosofía - ECPv6.15.20//NONSGML v1.0//EN
CALSCALE:GREGORIAN
METHOD:PUBLISH
X-ORIGINAL-URL:https://www.nueva-acropolis.cl
X-WR-CALDESC:Eventos para Nueva Acrópolis Chile | Escuela de Filosofía
REFRESH-INTERVAL;VALUE=DURATION:PT1H
X-Robots-Tag:noindex
X-PUBLISHED-TTL:PT1H
BEGIN:VTIMEZONE
TZID:America/Halifax
BEGIN:DAYLIGHT
TZOFFSETFROM:-0400
TZOFFSETTO:-0300
TZNAME:ADT
DTSTART:20250309T060000
END:DAYLIGHT
BEGIN:STANDARD
TZOFFSETFROM:-0300
TZOFFSETTO:-0400
TZNAME:AST
DTSTART:20251102T050000
END:STANDARD
BEGIN:DAYLIGHT
TZOFFSETFROM:-0400
TZOFFSETTO:-0300
TZNAME:ADT
DTSTART:20260308T060000
END:DAYLIGHT
BEGIN:STANDARD
TZOFFSETFROM:-0300
TZOFFSETTO:-0400
TZNAME:AST
DTSTART:20261101T050000
END:STANDARD
BEGIN:DAYLIGHT
TZOFFSETFROM:-0400
TZOFFSETTO:-0300
TZNAME:ADT
DTSTART:20270314T060000
END:DAYLIGHT
BEGIN:STANDARD
TZOFFSETFROM:-0300
TZOFFSETTO:-0400
TZNAME:AST
DTSTART:20271107T050000
END:STANDARD
END:VTIMEZONE
BEGIN:VEVENT
DTSTART;TZID=America/Halifax:20260303T193000
DTEND;TZID=America/Halifax:20260303T213000
DTSTAMP:20260421T081523
CREATED:20260224T042204Z
LAST-MODIFIED:20260224T054120Z
UID:22888-1772566200-1772573400@www.nueva-acropolis.cl
SUMMARY:Curso: Filosofía para Vivir - Martes 3 Marzo - Santiago
DESCRIPTION:Regístrate Aquí: https://www.filosofiaparavivir.cl/comienza/ \n¿Y si la filosofía no fuera teoría… sino una forma de vivir mejor cada día?\nTe invitamos a «Filosofía para Vivir»\, un curso práctico para quienes buscan claridad\, propósito y herramientas reales para comprenderse a sí mismos\, mejorar sus relaciones y enfrentar los desafíos del mundo con más conciencia.\nDurante 6 meses recorreremos enseñanzas de Oriente y Occidente que han guiado a la humanidad por siglos —desde la ética y el autoconocimiento hasta el sentido de la libertad\, el destino y la felicidad— siempre con ejercicios concretos para llevar la filosofía a la vida cotidiana. \n🌿 Un espacio para pensar con profundidad\, dialogar con otros y descubrir que el conocimiento también transforma. \n📍 SANTIAGO / PROVIDENCIA (Av. Vicuña Mackenna 76\, Metro Baquedano)\n• Martes 03 de Marzo – 19:30 hrs\nSi sientes que es tiempo de crecer interiormente\, este camino puede ser para ti. \n¿Qué encontrarás en esta sesión inicial?\n✅ Una introducción práctica\, la filosofía como el arte de vivir.\n✅ Detalles del programa: El ser humano ante sí mismo\, su entorno y su historia.\n✅ Te contaremos cómo funciona nuestra organización de voluntarios sin fines de lucro 🙂 \n🚀 CUPOS LIMITADOS \nRegístrate Aquí: https://www.filosofiaparavivir.cl/comienza/
URL:https://www.nueva-acropolis.cl/evento/curso-filosofia-para-vivir-martes-3-marzo-santiago/
LOCATION:Santiago\, Avenida Vicuña Mackenna 76\, Providencia\, Santiago\, Santiago\, Providencia\, Chile
CATEGORIES:Curso Filosofía para Vivir,Santiago
ATTACH;FMTTYPE=image/png:https://www.nueva-acropolis.cl/wp-content/uploads/2026/02/s3m.png
ORGANIZER;CN="Nueva Acr%C3%B3polis Santiago":MAILTO:santiago@nueva-acropolis.cl
END:VEVENT
END:VCALENDAR